BEGIN:VCALENDAR
VERSION:2.0
PRODID:-//wp-events-plugin.com//7.2.3.1//EN
TZID:Europe/Berlin
X-WR-TIMEZONE:Europe/Berlin
BEGIN:VEVENT
UID:13@fortbildung-dardenne.de
DTSTART;TZID=Europe/Berlin:20241122T150000
DTEND;TZID=Europe/Berlin:20241122T170000
DTSTAMP:20241120T094427Z
URL:https://fortbildung-dardenne.de/veranstaltungen/dardenne-iol-fortbildu
 ng-online/
SUMMARY:Dardenne IOL-Fortbildung Online
DESCRIPTION:\nwir freuen uns\, Sie herzlich zur IOL-Fortbildung der Augenkl
 inik Dardenne einzuladen\, die am 22. November 2024 online stattfinden wir
 d.\n\n\n\nDie Möglichkeiten\, im Rahmen einer Kataraktoperation auch Sehf
 ehler auszugleichen\, entwickeln sich stetig weiter. Die technologischen M
 öglichkeiten von Intraokularlinsen (IOL) werden immer weiter verfeinert. 
 Inzwischen ist eine breite Palette an Intraokularlinsen verfügbar. Um hi
 er eine Orientierung zu geben\, möchten wir Ihnen die verschiedenen Linse
 n-Typen und ihre individuellen Vor- und Nachteile in unserer Fortbildung d
 arstellen.\n\n\n\nDie Fortbildung findet als Online-Seminar statt und wird
  bei der Ärztekammer Nordrhein zertifiziert. Die Teilnahme ist kostenfrei
 .\n\n\n\nProgramm\n\n\n\n\n\n15:00 Uhr\n\n\n\n\n\nBegrüßung\n\n\n\nProf.
  Dr. A. Mirshahi (Bonn)Wissenschaftliche Leitung\n\n\n\n\n\n\n\n15:05 – 
 15:20\n\n\n\n\n\nModerne IOL mit Zusatzfunktionen: Was kann der Patient er
 warten (und was nicht)? \n\n\n\nDr. D. Holland (Kiel)anschließend 5 Min.
  Diskussion und Fragen\n\n\n\n\n\n\n\n15:25 – 15:40\n\n\n\n\n\nNeue Mög
 lichkeiten bei Beratung und Auswahl von Multifokallinsen\n\n\n\nProf. Dr. 
 G. Sauder (Stuttgart)anschließend 5 Min. Diskussion und Fragen\n\n\n\n\n\
 n\n\n15:45 – 16:00\n\n\n\n\n\nPause \n\n\n\n\n\n\n\n\n\n\n\n16:00 – 1
 6:15\n\n\n\n\n\nMonofocal plus und beyond: Neue Entwicklungen\n\n\n\nProf.
  Dr. A. Mirshahi (Bonn)anschließend 5 Min. Diskussion und Fragen\n\n\n\n\
 n\n\n\n16:20 – 16:35\n\n\n\n\n\nIOL-Auswahl nach Hornhaut-Chirurgie\n\n\
 n\nPD Dr. Dr. J. Menzel-Severing (Bonn)anschließend 5 Min. Diskussion und
  Fragen\n\n\n\n\n\n\n\n16:40 – 16:55\n\n\n\n\n\nBesonderheiten bei der p
 ostoperativen Kontrolle und Trouble Shooting\n\n\n\nDr. C. Latz (Berlin)an
 schließend 5 Min. Diskussion und Fragen\n\n\n\n\n\n\n\n\n\nDas Programmhe
 ft zur Fortbildung finden Sie hier:\n\n\n\n\n
ATTACH;FMTTYPE=image/jpeg:https://fortbildung-dardenne.de/wp-content/uploa
 ds/Hinterkammerlinse_01_fcm.jpg
CATEGORIES:Medizinisches Fachpersonal,Online
LOCATION:Zoom Webinar\, Zoom Webinar\,  \, Deutschland
X-APPLE-STRUCTURED-LOCATION;VALUE=URI;X-ADDRESS=Zoom Webinar\,  \, Deutschl
 and;X-APPLE-RADIUS=100;X-TITLE=Zoom Webinar:geo:0,0
END:VEVENT
BEGIN:VTIMEZONE
TZID:Europe/Berlin
X-LIC-LOCATION:Europe/Berlin
BEGIN:STANDARD
DTSTART:20241027T020000
TZOFFSETFROM:+0200
TZOFFSETTO:+0100
TZNAME:CET
END:STANDARD
END:VTIMEZONE
END:VCALENDAR