BEGIN:VCALENDAR
VERSION:2.0
PRODID:-//wp-events-plugin.com//7.2.3.1//EN
TZID:Europe/Berlin
X-WR-TIMEZONE:Europe/Berlin
BEGIN:VEVENT
UID:24@fortbildung-dardenne.de
DTSTART;TZID=Europe/Berlin:20260612T150000
DTEND;TZID=Europe/Berlin:20260612T173000
DTSTAMP:20260421T121259Z
URL:https://fortbildung-dardenne.de/veranstaltungen/dardenne-oct-kurs-webi
 nar-3/
SUMMARY:Dardenne OCT-Kurs Webinar
DESCRIPTION:\nwir freuen uns\, Sie herzlich zum OCT-Kurs der Augenklinik Da
 rdenne einzuladen\, der am 12. Juni 2026 online stattfinden wird.\n\n\n\nD
 er Kurs bietet Ihnen die Möglichkeit\, Ihr Wissen im Bereich der optische
 n Kohärenztomographie (OCT) zu vertiefen und sich über die neuesten Entw
 icklungen und Anwendungen dieser Technologie in der Augenheilkunde zu info
 rmieren. Erfahrene Referenten werden Ihnen praxisnahe Einblicke geben und 
 Ihnen wertvolle Tipps für den Einsatz des OCT in Ihrer täglichen Arbeit 
 vermitteln.\n\n\n\nDie Fortbildung findet als Online-Seminar statt und wir
 d bei der Ärztekammer Nordrhein zertifiziert. Die Teilnahme ist kostenfre
 i.\n\n\n\nProgramm\n\n\n\n\n\n15:00 Uhr\n\n\n\n\n\nBegrüßung\n\n\n\nProf
 . Dr. A. Mirshahi (Bonn)Wissenschaftliche Leitung\n\n\n\n\n\n\n\n15:05 –
  15:25\n\n\n\n\n\nOCT-Befunde der trockenen AMD: Welche Befunde sind aktue
 ll behandelbar?\n\n\n\nProf. Dr. H. Kaymak (Düsseldorf)\n\n\n\n\n\n\n\n15
 :25 – 15:45\n\n\n\n\n\nOCT-Biomarker des DMÖ: Was ist klinisch relevant
 ?\n\n\n\nPD Dr. C. Busch (Leipzig)\n\n\n\n\n\n\n\n15:45 – 16:05\n\n\n\n\
 n\nKI für die Befundung der OCT-Bilder bei nAMD: Reif für den täglichen
  klinischen Einsatz!\n\n\n\nDr. M. Gutfleisch (Münster)&nbsp\;\n\n\n\n\n\
 n\n\n16:05 – 16:15\n\n\n\n\n\nDiskussion / Fragen \n\n\n\n\n\n\n\n\n\n\
 n\n16:15 – 16:25\n\n\n\n\n\nPause \n\n\n\n\n\n\n\n\n\n\n\n16:25 – 16:
 45\n\n\n\n\n\nOCT im vorderen Augenabschnitt: Wann hilft es uns weiter?\n\
 n\n\nPD Dr. Dr. J. Menzel-Severing (Bonn)\n\n\n\n\n\n\n\n16:45 – 17:05\n
 \n\n\n\n\nDiagnostik und Verlaufskontrolle der Glaukome mit OCT\n\n\n\nPro
 f. Dr. A. Jünemann (Erlangen)\n\n\n\n\n\n\n\n17:05 – 17:25\n\n\n\n\n\nO
 CT-Rätsel: Hätten Sie es gewusst?\n\n\n\nProf. Dr. A. Mirshahi (Bonn)\n\
 n\n\n\n\n\n\n17:25 – 17:30\n\n\n\n\n\nDiskussion / Fragen \n\n\n\n\n\n\
 n\n\n\n\n\n\n\nDas Programmheft zur Fortbildung finden Sie hier:\n\n\n\n\n
ATTACH;FMTTYPE=image/jpeg:https://fortbildung-dardenne.de/wp-content/uploa
 ds/AdobeStock_251007544-scaled.jpeg
CATEGORIES:Medizinisches Fachpersonal,Online
LOCATION:Zoom Webinar\, Zoom Webinar\,  \, Deutschland
X-APPLE-STRUCTURED-LOCATION;VALUE=URI;X-ADDRESS=Zoom Webinar\,  \, Deutschl
 and;X-APPLE-RADIUS=100;X-TITLE=Zoom Webinar:geo:0,0
END:VEVENT
BEGIN:VTIMEZONE
TZID:Europe/Berlin
X-LIC-LOCATION:Europe/Berlin
BEGIN:DAYLIGHT
DTSTART:20260329T030000
TZOFFSETFROM:+0100
TZOFFSETTO:+0200
TZNAME:CEST
END:DAYLIGHT
END:VTIMEZONE
END:VCALENDAR