BEGIN:VCALENDAR
VERSION:2.0
PRODID:-//wp-events-plugin.com//7.2.3.1//EN
TZID:Europe/Berlin
X-WR-TIMEZONE:Europe/Berlin
BEGIN:VEVENT
UID:17@fortbildung-dardenne.de
DTSTART;TZID=Europe/Berlin:20250704T130000
DTEND;TZID=Europe/Berlin:20250704T160000
DTSTAMP:20250512T061517Z
URL:https://fortbildung-dardenne.de/veranstaltungen/infoveranstaltung-fuer
 -patienten-6/
SUMMARY:Infoveranstaltung für Patienten
DESCRIPTION:\n\n\nSichern Sie sich jetzt einen Platz bei unserer Veranstalt
 ung. Die Teilnahme ist auf 50 Personen limitiert.\n\n\n\nProgramm\n\n\n\n\
 n\n13:00 Uhr\n\n\n\n\n\nDER GRAUE STAR (Katarakt)\n\n\n\nKlinikdirektor Pr
 of. Dr. med. Alireza Mirshahi präsentiert Ihnendie Möglichkeiten der mod
 ernen Operation des Grauen Stars. Wie läuft dieOperation ab und welche Vo
 rteile bietet die innovative Laserchirurgie mit demFemtosekundenlaser? Ans
 chließend informiert Sie Augenoptikermeister undRefraktivmanager Peter Ri
 chter über die verschiedene Linsentypen.\n\n\n\nBitte ca. 15 Minuten vorh
 er vor Ort sein\, damit wir pünktlich starten können. Vielen Dank!\n\n\n
 \n\n\n\n\n14:30 Uhr\n\n\n\n\n\nÄSTHETISCHE LIDOPERATIONEN\n\n\n\nSie habe
 n schon immer von strahlenden und jugendlichen Augen geträumt?Egal ob Sch
 lupflider\, Krähenfüße oder Falten\, immer mehr Menschen entscheiden si
 ch für eine kosmetische Korrektur des Oberlids (Blepharoplastik).Ein klei
 ner Eingriff mit großer Wirkung!Prof. Dr. med. Katharina Ponto präsentie
 rt Ihnen die Möglichkeiten derLidchirurgie - für eine frische und jugend
 liche Ausstrahlung.\n\n\n\n\n\n\n\n\n
ATTACH;FMTTYPE=image/jpeg:https://fortbildung-dardenne.de/wp-content/uploa
 ds/Klinik-aussen-web-1.jpg
CATEGORIES:Patienten,Vor Ort
LOCATION:Augenklinik Dardenne SE\, Friedrich-Ebert-Str. 23-25\, Bonn-Bad Go
 desberg\, 53177\, Deutschland
X-APPLE-STRUCTURED-LOCATION;VALUE=URI;X-ADDRESS=Friedrich-Ebert-Str. 23-25\
 , Bonn-Bad Godesberg\, 53177\, Deutschland;X-APPLE-RADIUS=100;X-TITLE=Auge
 nklinik Dardenne SE:geo:0,0
END:VEVENT
BEGIN:VTIMEZONE
TZID:Europe/Berlin
X-LIC-LOCATION:Europe/Berlin
BEGIN:DAYLIGHT
DTSTART:20250330T030000
TZOFFSETFROM:+0100
TZOFFSETTO:+0200
TZNAME:CEST
END:DAYLIGHT
END:VTIMEZONE
END:VCALENDAR